BEGIN:VCALENDAR
VERSION:2.0
PRODID:-//archive.cryptologicfoundation.org//NONSGML kigkonsult.se iCalcrea
 tor 2.30.10//
CALSCALE:GREGORIAN
METHOD:PUBLISH
UID:b0d91c48-e537-4ce2-bfb3-3d74ff7190cd
X-WR-CALDESC:31 January 1992: OTD in 1992 - the Federal Register published 
 details for the Secure Hash Standard/Algorithm (SHA). The original SHA was
  designed to provide a mechanism to check the integrity of data. \n\nSee b
 elow for a link to view the original document via the Federal Register arc
 hives.
X-WR-RELCALID:08f28a7814187f44a7b61fd862c2ba6f
X-WR-TIMEZONE:America/New_York
BEGIN:VTIMEZONE
TZID:America/New_York
BEGIN:STANDARD
TZNAME:EST
DTSTART:20271107T020000
TZOFFSETFROM:-0400
TZOFFSETTO:-0500
RDATE:20281105T020000
END:STANDARD
BEGIN:DAYLIGHT
TZNAME:EDT
DTSTART:20270314T020000
TZOFFSETFROM:-0500
TZOFFSETTO:-0400
RDATE:20280312T020000
RDATE:20290311T020000
END:DAYLIGHT
END:VTIMEZONE
BEGIN:VEVENT
UID:e2ffd2c5-c3e4-4df4-a591-11d40ae3412c
DTSTAMP:20260425T154646Z
DESCRIPTION:31 January 1992: OTD in 1992 - the Federal Register published d
 etails for the Secure Hash Standard/Algorithm (SHA). The original SHA was 
 designed to provide a mechanism to check the integrity of data. \n\nSee be
 low for a link to view the original document via the Federal Register arch
 ives.
DTSTART;TZID=America/New_York:20280131T060000
DTEND;TZID=America/New_York:20280131T060001
LOCATION:
SUMMARY:1992: 'The Federal Register' published details for the Secure Hash 
 Standard (SHA).
END:VEVENT
END:VCALENDAR
