BEGIN:VCALENDAR
VERSION:2.0
PRODID:-//archive.cryptologicfoundation.org//NONSGML kigkonsult.se iCalcrea
 tor 2.30.10//
CALSCALE:GREGORIAN
METHOD:PUBLISH
UID:cf8199bf-9cfa-4228-81cc-57b860c5ba19
X-WR-CALDESC:1 February 1942: FRUMEL\, Navy's Fleet Radio Unit\, Melbourne\
 , established to assist General MacArthur.
X-WR-RELCALID:e80acf3c5d8e3f0b94c6f735bfbedacb
X-WR-TIMEZONE:America/New_York
BEGIN:VTIMEZONE
TZID:America/New_York
BEGIN:STANDARD
TZNAME:EST
DTSTART:20271107T020000
TZOFFSETFROM:-0400
TZOFFSETTO:-0500
RDATE:20281105T020000
END:STANDARD
BEGIN:DAYLIGHT
TZNAME:EDT
DTSTART:20270314T020000
TZOFFSETFROM:-0500
TZOFFSETTO:-0400
RDATE:20280312T020000
RDATE:20290311T020000
END:DAYLIGHT
END:VTIMEZONE
BEGIN:VEVENT
UID:29371cc6-b23c-45bb-880d-74ca0f524b66
DTSTAMP:20260425T171644Z
DESCRIPTION:1 February 1942: FRUMEL\, Navy's Fleet Radio Unit\, Melbourne\,
  established to assist General MacArthur.
DTSTART;TZID=America/New_York:20280201T000000
DTEND;TZID=America/New_York:20280201T235900
LOCATION:
SUMMARY:1942: FRUMEL established to assist General MacArthur
END:VEVENT
END:VCALENDAR
