BEGIN:VCALENDAR
VERSION:2.0
PRODID:-//archive.cryptologicfoundation.org//NONSGML kigkonsult.se iCalcrea
 tor 2.30.10//
CALSCALE:GREGORIAN
METHOD:PUBLISH
UID:ae0aa072-0419-4d3a-90f9-5dac96521c16
X-WR-CALDESC:1 February 1949: The USAFSS received its first cryptologic uni
 ts from ASA.
X-WR-RELCALID:039c2c026b346b30e647269e2a2968f6
X-WR-TIMEZONE:America/New_York
BEGIN:VTIMEZONE
TZID:America/New_York
BEGIN:STANDARD
TZNAME:EST
DTSTART:20271107T020000
TZOFFSETFROM:-0400
TZOFFSETTO:-0500
RDATE:20281105T020000
END:STANDARD
BEGIN:DAYLIGHT
TZNAME:EDT
DTSTART:20270314T020000
TZOFFSETFROM:-0500
TZOFFSETTO:-0400
RDATE:20280312T020000
RDATE:20290311T020000
END:DAYLIGHT
END:VTIMEZONE
BEGIN:VEVENT
UID:79b0f2f9-7637-4f08-8aa4-ad3b96328197
DTSTAMP:20260425T171352Z
DESCRIPTION:1 February 1949: The USAFSS received its first cryptologic unit
 s from ASA.
DTSTART;TZID=America/New_York:20280201T000000
DTEND;TZID=America/New_York:20280201T235900
LOCATION:
SUMMARY:1949: USAFSS received first cryptologic units from the ASA.
END:VEVENT
END:VCALENDAR
