BEGIN:VCALENDAR
VERSION:2.0
PRODID:-//archive.cryptologicfoundation.org//NONSGML kigkonsult.se iCalcrea
 tor 2.30.10//
CALSCALE:GREGORIAN
METHOD:PUBLISH
UID:8d20c5a1-578b-4cfb-be69-cf07a6dc0abc
X-WR-CALDESC:3 February 1963: Intercept operations began at Phu Bai. Became
  the largest U.S. site in South Vietnam.
X-WR-RELCALID:7b16ea1edea2e53588b713450727e680
X-WR-TIMEZONE:America/New_York
BEGIN:VTIMEZONE
TZID:America/New_York
BEGIN:STANDARD
TZNAME:EST
DTSTART:20271107T020000
TZOFFSETFROM:-0400
TZOFFSETTO:-0500
RDATE:20281105T020000
END:STANDARD
BEGIN:DAYLIGHT
TZNAME:EDT
DTSTART:20270314T020000
TZOFFSETFROM:-0500
TZOFFSETTO:-0400
RDATE:20280312T020000
RDATE:20290311T020000
END:DAYLIGHT
END:VTIMEZONE
BEGIN:VEVENT
UID:c96685c8-8c84-4b2c-a000-13711a81c587
DTSTAMP:20260425T171350Z
DESCRIPTION:3 February 1963: Intercept operations began at Phu Bai. Became 
 the largest U.S. site in South Vietnam.
DTSTART;TZID=America/New_York:20280203T000000
DTEND;TZID=America/New_York:20280203T235900
LOCATION:
SUMMARY:1963: Intercept operations began at Phu Bai
END:VEVENT
END:VCALENDAR
