BEGIN:VCALENDAR
VERSION:2.0
PRODID:-//archive.cryptologicfoundation.org//NONSGML kigkonsult.se iCalcrea
 tor 2.30.10//
CALSCALE:GREGORIAN
METHOD:PUBLISH
UID:056a445d-3856-47b8-b452-3309c71176c1
X-WR-CALDESC:7 February 1943: The Naval Security Station moved to Nebraska 
 Avenue. Image from Bill Lockert\, CTTCM\, USN Ret\n\nIn 1942 Op-20G expand
 ed into seventeen subsections and its chief became as Assistant Director f
 or Communication Intelligence in the Office of Naval Communications. This 
 coincided with the inclusion of all COMINT functions\, including direction
  finding\, under one officer. On 7 February 1943 Op-20G moved from the Arm
 y-Navy Building on Constitution Ave. to the new Communication Supplementar
 y Annex\, 3801 Nebraska Ave.\, Washington D.C. This location was later ren
 amed Naval Communication Station Washington\, D.C. and in Sept. 1950 it be
 came the Naval Security Station.
X-WR-RELCALID:f0959f35d82849e934748a2cba9cec37
X-WR-TIMEZONE:America/New_York
BEGIN:VTIMEZONE
TZID:America/New_York
BEGIN:STANDARD
TZNAME:EST
DTSTART:20271107T020000
TZOFFSETFROM:-0400
TZOFFSETTO:-0500
RDATE:20281105T020000
END:STANDARD
BEGIN:DAYLIGHT
TZNAME:EDT
DTSTART:20270314T020000
TZOFFSETFROM:-0500
TZOFFSETTO:-0400
RDATE:20280312T020000
RDATE:20290311T020000
END:DAYLIGHT
END:VTIMEZONE
BEGIN:VEVENT
UID:08093370-87c5-4000-9191-e6e1bbed1dee
DTSTAMP:20260425T171525Z
DESCRIPTION:7 February 1943: The Naval Security Station moved to Nebraska A
 venue. Image from Bill Lockert\, CTTCM\, USN Ret\n\nIn 1942 Op-20G expande
 d into seventeen subsections and its chief became as Assistant Director fo
 r Communication Intelligence in the Office of Naval Communications. This c
 oincided with the inclusion of all COMINT functions\, including direction 
 finding\, under one officer. On 7 February 1943 Op-20G moved from the Army
 -Navy Building on Constitution Ave. to the new Communication Supplementary
  Annex\, 3801 Nebraska Ave.\, Washington D.C. This location was later rena
 med Naval Communication Station Washington\, D.C. and in Sept. 1950 it bec
 ame the Naval Security Station.
DTSTART;TZID=America/New_York:20280207T000000
DTEND;TZID=America/New_York:20280207T235900
LOCATION:
SUMMARY:1943: Naval Security Station moved to Nebraska Ave.
END:VEVENT
END:VCALENDAR
