BEGIN:VCALENDAR
VERSION:2.0
PRODID:-//archive.cryptologicfoundation.org//NONSGML kigkonsult.se iCalcrea
 tor 2.30.10//
CALSCALE:GREGORIAN
METHOD:PUBLISH
UID:349ac39f-1634-4165-bc7c-6caca5d38d6a
X-WR-CALDESC:8 February 1587: Mary\, Queen of Scots\, was executed for trea
 son\, as a result of a solution of a cryptosystem she was using in a consp
 iracy to assassinate Queen Elizabeth (Babington Plot). Pictured here is th
 e cipher code used by Mary\, Queen of Scots. <a href='http://en.wikipedia.
 org/wiki/File:Mary-cipher-code.jpg#mediaviewer/File:Mary-cipher-code.jpg'>
 Mary-cipher-code</a>. Licensed under <a title='Public domain' href='//en.w
 ikipedia.org/wiki/File:Mary-cipher-code.jpg'>Public Domain</a> via <a href
 ='//en.wikipedia.org/wiki/'>Wikipedia</a>\n\n
X-WR-RELCALID:8147d2841e189a0afd61dd2aa49905cb
X-WR-TIMEZONE:America/New_York
BEGIN:VTIMEZONE
TZID:America/New_York
BEGIN:STANDARD
TZNAME:EST
DTSTART:20271107T020000
TZOFFSETFROM:-0400
TZOFFSETTO:-0500
RDATE:20281105T020000
END:STANDARD
BEGIN:DAYLIGHT
TZNAME:EDT
DTSTART:20270314T020000
TZOFFSETFROM:-0500
TZOFFSETTO:-0400
RDATE:20280312T020000
RDATE:20290311T020000
END:DAYLIGHT
END:VTIMEZONE
BEGIN:VEVENT
UID:65517f21-e809-4047-a3b7-e6fc05b90ed5
DTSTAMP:20260425T171925Z
DESCRIPTION:8 February 1587: Mary\, Queen of Scots\, was executed for treas
 on\, as a result of a solution of a cryptosystem she was using in a conspi
 racy to assassinate Queen Elizabeth (Babington Plot). Pictured here is the
  cipher code used by Mary\, Queen of Scots. <a href='http://en.wikipedia.o
 rg/wiki/File:Mary-cipher-code.jpg#mediaviewer/File:Mary-cipher-code.jpg'>M
 ary-cipher-code</a>. Licensed under <a title='Public domain' href='//en.wi
 kipedia.org/wiki/File:Mary-cipher-code.jpg'>Public Domain</a> via <a href=
 '//en.wikipedia.org/wiki/'>Wikipedia</a>\n\n
DTSTART;TZID=America/New_York:20280208T000000
DTEND;TZID=America/New_York:20280208T235900
LOCATION:
SUMMARY:1587: Mary\, Queen of Scots\, executed for treason.
END:VEVENT
END:VCALENDAR
