BEGIN:VCALENDAR
VERSION:2.0
PRODID:-//archive.cryptologicfoundation.org//NONSGML kigkonsult.se iCalcrea
 tor 2.30.10//
CALSCALE:GREGORIAN
METHOD:PUBLISH
UID:2d4001eb-dd5f-409a-a98b-8fb8eabc94ec
X-WR-CALDESC:10 February 1943: Establishment of the 805th Signal Service Co
 mpany for operation of the SIGSALY.
X-WR-RELCALID:40f991eea23b71a092fd5e2285f054ac
X-WR-TIMEZONE:America/New_York
BEGIN:VTIMEZONE
TZID:America/New_York
BEGIN:STANDARD
TZNAME:EST
DTSTART:20271107T020000
TZOFFSETFROM:-0400
TZOFFSETTO:-0500
RDATE:20281105T020000
END:STANDARD
BEGIN:DAYLIGHT
TZNAME:EDT
DTSTART:20270314T020000
TZOFFSETFROM:-0500
TZOFFSETTO:-0400
RDATE:20280312T020000
RDATE:20290311T020000
END:DAYLIGHT
END:VTIMEZONE
BEGIN:VEVENT
UID:001c431c-acfe-4abb-a597-42b430caebb4
DTSTAMP:20260425T172017Z
DESCRIPTION:10 February 1943: Establishment of the 805th Signal Service Com
 pany for operation of the SIGSALY.
DTSTART;TZID=America/New_York:20280210T000000
DTEND;TZID=America/New_York:20280210T235900
LOCATION:
SUMMARY:1943: Establishment of the 805th Signal Service Company for operati
 on of the SIGSALY.
END:VEVENT
END:VCALENDAR
