BEGIN:VCALENDAR
VERSION:2.0
PRODID:-//archive.cryptologicfoundation.org//NONSGML kigkonsult.se iCalcrea
 tor 2.30.10//
CALSCALE:GREGORIAN
METHOD:PUBLISH
UID:aa471d3e-84ea-4ec3-a47b-89ecea03b22d
X-WR-CALDESC:In honor of President's Month - OTD - the DEC Alpha provided n
 uclear codes to US leadership for over 30 years.
X-WR-RELCALID:2e1629aed0f2418986282daf947ac8c2
X-WR-TIMEZONE:America/New_York
BEGIN:VTIMEZONE
TZID:America/New_York
BEGIN:STANDARD
TZNAME:EST
DTSTART:20271107T020000
TZOFFSETFROM:-0400
TZOFFSETTO:-0500
RDATE:20281105T020000
END:STANDARD
BEGIN:DAYLIGHT
TZNAME:EDT
DTSTART:20270314T020000
TZOFFSETFROM:-0500
TZOFFSETTO:-0400
RDATE:20280312T020000
RDATE:20290311T020000
END:DAYLIGHT
END:VTIMEZONE
BEGIN:VEVENT
UID:5c702646-a9ad-4caa-a865-3d2c1a0ac4a2
DTSTAMP:20260425T171517Z
DESCRIPTION:In honor of President's Month - OTD - the DEC Alpha provided nu
 clear codes to US leadership for over 30 years.
DTSTART;TZID=America/New_York:20280215T060000
DTEND;TZID=America/New_York:20280215T060001
LOCATION:
SUMMARY:President's Month OTD - DEC Alpha
END:VEVENT
END:VCALENDAR
