BEGIN:VCALENDAR
VERSION:2.0
PRODID:-//archive.cryptologicfoundation.org//NONSGML kigkonsult.se iCalcrea
 tor 2.30.10//
CALSCALE:GREGORIAN
METHOD:PUBLISH
UID:c8eb5950-2fd7-45d2-8a53-19c216a81f92
X-WR-CALDESC:16 February 1973: Ribbon-cutting ceremony for the National SIG
 INT Operations Center (NSOC).
X-WR-RELCALID:864c6103ba1fb6d9525b259e13910bdc
X-WR-TIMEZONE:America/New_York
BEGIN:VTIMEZONE
TZID:America/New_York
BEGIN:STANDARD
TZNAME:EST
DTSTART:20271107T020000
TZOFFSETFROM:-0400
TZOFFSETTO:-0500
RDATE:20281105T020000
END:STANDARD
BEGIN:DAYLIGHT
TZNAME:EDT
DTSTART:20270314T020000
TZOFFSETFROM:-0500
TZOFFSETTO:-0400
RDATE:20280312T020000
RDATE:20290311T020000
END:DAYLIGHT
END:VTIMEZONE
BEGIN:VEVENT
UID:a754f2bc-fa34-4354-9ba6-1873b09f4bad
DTSTAMP:20260425T171826Z
DESCRIPTION:16 February 1973: Ribbon-cutting ceremony for the National SIGI
 NT Operations Center (NSOC).
DTSTART;TZID=America/New_York:20280216T000000
DTEND;TZID=America/New_York:20280216T235900
LOCATION:
SUMMARY:1973: Ribbon-cutting for National SIGINT Operations Center (NSOC)
END:VEVENT
END:VCALENDAR
