BEGIN:VCALENDAR
VERSION:2.0
PRODID:-//archive.cryptologicfoundation.org//NONSGML kigkonsult.se iCalcrea
 tor 2.30.10//
CALSCALE:GREGORIAN
METHOD:PUBLISH
UID:4c0772a2-e242-431a-857d-c99f5f868214
X-WR-CALDESC:1960: Howard Engstrom received the Exceptional Civilian Servic
 e Award. Engstrom served as Deputy Director of the NSA from 1957-1958.  He
  was a technical  leader in the Navy’s cryptologic work in World War II an
 d continued his participation in many roles after the war. He was also awa
 rded the Order of the British Empire. Along with William Norris and others
  he founded Engineering Research Associates in 1946. He was also one of th
 e co-creators of the Univac computer.\n\nYou can learn more about him in t
 he NSA CCH publication 'Cryptology's Role in the Early Development of Comp
 uter Capabilities in the United States' - link below. (starting pg 15)
X-WR-RELCALID:41fa71bbb3a9f758718ee1707d0a19f9
X-WR-TIMEZONE:America/New_York
BEGIN:VTIMEZONE
TZID:America/New_York
BEGIN:STANDARD
TZNAME:EST
DTSTART:20271107T020000
TZOFFSETFROM:-0400
TZOFFSETTO:-0500
RDATE:20281105T020000
END:STANDARD
BEGIN:DAYLIGHT
TZNAME:EDT
DTSTART:20270314T020000
TZOFFSETFROM:-0500
TZOFFSETTO:-0400
RDATE:20280312T020000
RDATE:20290311T020000
END:DAYLIGHT
END:VTIMEZONE
BEGIN:VEVENT
UID:c515ae73-1a1e-40f7-b89e-e41c4e62e496
DTSTAMP:20260425T171244Z
DESCRIPTION:1960: Howard Engstrom received the Exceptional Civilian Service
  Award. Engstrom served as Deputy Director of the NSA from 1957-1958.  He 
 was a technical  leader in the Navy’s cryptologic work in World War II and
  continued his participation in many roles after the war. He was also awar
 ded the Order of the British Empire. Along with William Norris and others 
 he founded Engineering Research Associates in 1946. He was also one of the
  co-creators of the Univac computer.\n\nYou can learn more about him in th
 e NSA CCH publication 'Cryptology's Role in the Early Development of Compu
 ter Capabilities in the United States' - link below. (starting pg 15)
DTSTART;TZID=America/New_York:20280217T000000
DTEND;TZID=America/New_York:20280217T235900
LOCATION:
SUMMARY:1960: Howard Engstrom - Exceptional Service
END:VEVENT
END:VCALENDAR
