BEGIN:VCALENDAR
VERSION:2.0
PRODID:-//archive.cryptologicfoundation.org//NONSGML kigkonsult.se iCalcrea
 tor 2.30.10//
CALSCALE:GREGORIAN
METHOD:PUBLISH
UID:2502cc8d-69bd-484a-a95b-219702503784
X-WR-CALDESC:19 February 1977:  Congress overlooks Benedict Arnold\, the he
 ro of Saratoga and Ticonderoga\, for promotion to major general in favor o
 f five other junior officers. Infuriated\, Arnold ends up making his trait
 orous deal to sell the garrison of West Point to the British. He used a di
 ctionary code in his correspondence to British in which he proposed the ag
 reement. \n\nRead about the whole ordeal on pages 24 - 30 of the NSA publi
 cation 'Revolutionary Secrets: Cryptology in the American Revolution' link
 ed below.
X-WR-RELCALID:aaa401641a5d485119137109e012b506
X-WR-TIMEZONE:America/New_York
BEGIN:VTIMEZONE
TZID:America/New_York
BEGIN:STANDARD
TZNAME:EST
DTSTART:20271107T020000
TZOFFSETFROM:-0400
TZOFFSETTO:-0500
RDATE:20281105T020000
END:STANDARD
BEGIN:DAYLIGHT
TZNAME:EDT
DTSTART:20270314T020000
TZOFFSETFROM:-0500
TZOFFSETTO:-0400
RDATE:20280312T020000
RDATE:20290311T020000
END:DAYLIGHT
END:VTIMEZONE
BEGIN:VEVENT
UID:e81e8870-1503-4099-80f7-e7db7b2642bf
DTSTAMP:20260425T171519Z
DESCRIPTION:19 February 1977:  Congress overlooks Benedict Arnold\, the her
 o of Saratoga and Ticonderoga\, for promotion to major general in favor of
  five other junior officers. Infuriated\, Arnold ends up making his traito
 rous deal to sell the garrison of West Point to the British. He used a dic
 tionary code in his correspondence to British in which he proposed the agr
 eement. \n\nRead about the whole ordeal on pages 24 - 30 of the NSA public
 ation 'Revolutionary Secrets: Cryptology in the American Revolution' linke
 d below.
DTSTART;TZID=America/New_York:20280221T000000
DTEND;TZID=America/New_York:20280221T235900
LOCATION:
SUMMARY:1777: Benedict Arnold overlooked for promotion.
END:VEVENT
END:VCALENDAR
