BEGIN:VCALENDAR
VERSION:2.0
PRODID:-//archive.cryptologicfoundation.org//NONSGML kigkonsult.se iCalcrea
 tor 2.30.10//
CALSCALE:GREGORIAN
METHOD:PUBLISH
UID:1a8362b8-f1db-44f9-be8d-0551494488ba
X-WR-CALDESC:23 February 1927: Radio Intercept Act of 1927 prohibited radio
  intercept in the U.S.
X-WR-RELCALID:de0b6ff9a1495a885e7258ba46442854
X-WR-TIMEZONE:America/New_York
BEGIN:VTIMEZONE
TZID:America/New_York
BEGIN:STANDARD
TZNAME:EST
DTSTART:20271107T020000
TZOFFSETFROM:-0400
TZOFFSETTO:-0500
RDATE:20281105T020000
END:STANDARD
BEGIN:DAYLIGHT
TZNAME:EDT
DTSTART:20270314T020000
TZOFFSETFROM:-0500
TZOFFSETTO:-0400
RDATE:20280312T020000
RDATE:20290311T020000
END:DAYLIGHT
END:VTIMEZONE
BEGIN:VEVENT
UID:8dc57da2-13fc-4da6-81c2-f17669176615
DTSTAMP:20260425T171828Z
DESCRIPTION:23 February 1927: Radio Intercept Act of 1927 prohibited radio 
 intercept in the U.S.
DTSTART;TZID=America/New_York:20280223T000000
DTEND;TZID=America/New_York:20280223T235900
LOCATION:
SUMMARY:1927: Radio Act of 1927.
END:VEVENT
END:VCALENDAR
