BEGIN:VCALENDAR
VERSION:2.0
PRODID:-//archive.cryptologicfoundation.org//NONSGML kigkonsult.se iCalcrea
 tor 2.30.10//
CALSCALE:GREGORIAN
METHOD:PUBLISH
UID:c5fb18d4-5d8d-4a93-a369-f1c9d97122ba
X-WR-CALDESC:24 February 1954: Captain Thomas Dyer\, USN\, became the first
  NSA Historian. \n\nCaptain Dyer was inducted into the NSA/CSS Cryptologic
  Hall of Honor in 2002. \n\nHall of Honor Excerpt: \n\n'As the lead crypta
 nalyst at Station HYPO in Hawaii from 1936 to 1945\, Thomas H. 'Tommy' Dye
 r led the team that was responsible for most of the breakthroughs in readi
 ng Japanese naval communications during the war in the Pacific. After the 
 war\, he continued a brilliant career and went on to be one of the three p
 rimary cryptanalytic trainers\, along with William Friedman and Lambros Ca
 llimahos\, for both Armed Forces Security Agency (AFSA) and National Secur
 ity Agency.'\n\nLearn more about his career and accomplishments via the li
 nk below to his full Hall of Honor bio on the NSA site.
X-WR-RELCALID:9e6e296ea3b2f20a5d258c065856a0df
X-WR-TIMEZONE:America/New_York
BEGIN:VTIMEZONE
TZID:America/New_York
BEGIN:STANDARD
TZNAME:EST
DTSTART:20271107T020000
TZOFFSETFROM:-0400
TZOFFSETTO:-0500
RDATE:20281105T020000
END:STANDARD
BEGIN:DAYLIGHT
TZNAME:EDT
DTSTART:20270314T020000
TZOFFSETFROM:-0500
TZOFFSETTO:-0400
RDATE:20280312T020000
RDATE:20290311T020000
END:DAYLIGHT
END:VTIMEZONE
BEGIN:VEVENT
UID:baf03086-e1e0-4db9-8ed8-1dc970d865a2
DTSTAMP:20260425T171350Z
DESCRIPTION:24 February 1954: Captain Thomas Dyer\, USN\, became the first 
 NSA Historian. \n\nCaptain Dyer was inducted into the NSA/CSS Cryptologic 
 Hall of Honor in 2002. \n\nHall of Honor Excerpt: \n\n'As the lead cryptan
 alyst at Station HYPO in Hawaii from 1936 to 1945\, Thomas H. 'Tommy' Dyer
  led the team that was responsible for most of the breakthroughs in readin
 g Japanese naval communications during the war in the Pacific. After the w
 ar\, he continued a brilliant career and went on to be one of the three pr
 imary cryptanalytic trainers\, along with William Friedman and Lambros Cal
 limahos\, for both Armed Forces Security Agency (AFSA) and National Securi
 ty Agency.'\n\nLearn more about his career and accomplishments via the lin
 k below to his full Hall of Honor bio on the NSA site.
DTSTART;TZID=America/New_York:20280224T060000
DTEND;TZID=America/New_York:20280224T060001
LOCATION:
SUMMARY:1954: First NSA Historian - CAPT Thomas Dyer\, USN
END:VEVENT
END:VCALENDAR
