BEGIN:VCALENDAR
VERSION:2.0
PRODID:-//archive.cryptologicfoundation.org//NONSGML kigkonsult.se iCalcrea
 tor 2.30.10//
CALSCALE:GREGORIAN
METHOD:PUBLISH
UID:e0255754-f83f-420e-bd06-f39d39c321d5
X-WR-CALDESC:26 February 1981: NSA sponsored exhibit formally opened at the
  Smithsonian and was open for one year. The exhibit\, 'Cipher Machines: Wo
 rld War I - World War II' featured devices ranging from the 1910 cipher di
 sk to the German Enigma and the US SIGABA. Commercial machines of the 1920
 s and 1930s were also on display. Learn more via the pdf link below.
X-WR-RELCALID:31908fcb28813ab11d9b2bd84a84f4a6
X-WR-TIMEZONE:America/New_York
BEGIN:VTIMEZONE
TZID:America/New_York
BEGIN:STANDARD
TZNAME:EST
DTSTART:20271107T020000
TZOFFSETFROM:-0400
TZOFFSETTO:-0500
RDATE:20281105T020000
END:STANDARD
BEGIN:DAYLIGHT
TZNAME:EDT
DTSTART:20270314T020000
TZOFFSETFROM:-0500
TZOFFSETTO:-0400
RDATE:20280312T020000
RDATE:20290311T020000
END:DAYLIGHT
END:VTIMEZONE
BEGIN:VEVENT
UID:e7266da7-ae70-41f6-bd72-2ede41809210
DTSTAMP:20260425T171426Z
DESCRIPTION:26 February 1981: NSA sponsored exhibit formally opened at the 
 Smithsonian and was open for one year. The exhibit\, 'Cipher Machines: Wor
 ld War I - World War II' featured devices ranging from the 1910 cipher dis
 k to the German Enigma and the US SIGABA. Commercial machines of the 1920s
  and 1930s were also on display. Learn more via the pdf link below.
DTSTART;TZID=America/New_York:20280226T000000
DTEND;TZID=America/New_York:20280226T235900
LOCATION:
SUMMARY:1981: NSA sponsored exhibit opened at Smithsonian.
END:VEVENT
END:VCALENDAR
