BEGIN:VCALENDAR
VERSION:2.0
PRODID:-//archive.cryptologicfoundation.org//NONSGML kigkonsult.se iCalcrea
 tor 2.30.10//
CALSCALE:GREGORIAN
METHOD:PUBLISH
UID:aa5c576e-ac0b-49b4-a8f2-50271fc936e1
X-WR-CALDESC:1 March 1930: The first hire at SIS was Annie Louise Newkirk w
 ho was hired as a cryptographic clerk. Interesting note\, when a phone cal
 l came in for someone working in the vault room\, Ms. Newkirk would buzz t
 he back room using a Morse code equivalent for the first initial of the in
 dividual's name.
X-WR-RELCALID:19dde83bcdb5101e01ff9c241a11c3fa
X-WR-TIMEZONE:America/New_York
BEGIN:VTIMEZONE
TZID:America/New_York
BEGIN:STANDARD
TZNAME:EST
DTSTART:20271107T020000
TZOFFSETFROM:-0400
TZOFFSETTO:-0500
RDATE:20281105T020000
END:STANDARD
BEGIN:DAYLIGHT
TZNAME:EDT
DTSTART:20270314T020000
TZOFFSETFROM:-0500
TZOFFSETTO:-0400
RDATE:20280312T020000
RDATE:20290311T020000
END:DAYLIGHT
END:VTIMEZONE
BEGIN:VEVENT
UID:9c73cdd4-4447-468c-8252-41fa08b2b099
DTSTAMP:20260425T184837Z
DESCRIPTION:1 March 1930: The first hire at SIS was Annie Louise Newkirk wh
 o was hired as a cryptographic clerk. Interesting note\, when a phone call
  came in for someone working in the vault room\, Ms. Newkirk would buzz th
 e back room using a Morse code equivalent for the first initial of the ind
 ividual's name.
DTSTART;TZID=America/New_York:20280301T000000
DTEND;TZID=America/New_York:20280301T235900
LOCATION:
SUMMARY:1930: First hire at SIS - Annie Louise Newkirk
END:VEVENT
END:VCALENDAR
