BEGIN:VCALENDAR
VERSION:2.0
PRODID:-//archive.cryptologicfoundation.org//NONSGML kigkonsult.se iCalcrea
 tor 2.30.10//
CALSCALE:GREGORIAN
METHOD:PUBLISH
UID:9eb6ab76-a843-47bd-b447-ebc2adbe5daa
X-WR-CALDESC:1 March 1951: Shelby Patterson became chief of the AFSA school
 .
X-WR-RELCALID:d2d06bcc36548ce074b638ab7e41d12a
X-WR-TIMEZONE:America/New_York
BEGIN:VTIMEZONE
TZID:America/New_York
BEGIN:STANDARD
TZNAME:EST
DTSTART:20271107T020000
TZOFFSETFROM:-0400
TZOFFSETTO:-0500
RDATE:20281105T020000
END:STANDARD
BEGIN:DAYLIGHT
TZNAME:EDT
DTSTART:20270314T020000
TZOFFSETFROM:-0500
TZOFFSETTO:-0400
RDATE:20280312T020000
RDATE:20290311T020000
END:DAYLIGHT
END:VTIMEZONE
BEGIN:VEVENT
UID:bfa4d778-8649-4b1a-9ca4-2f64b24a91aa
DTSTAMP:20260425T184959Z
DESCRIPTION:1 March 1951: Shelby Patterson became chief of the AFSA school.
DTSTART;TZID=America/New_York:20280301T000000
DTEND;TZID=America/New_York:20280301T235900
LOCATION:
SUMMARY:1951: Shelby Patterson became chief of the AFSA school.
END:VEVENT
END:VCALENDAR
