BEGIN:VCALENDAR
VERSION:2.0
PRODID:-//archive.cryptologicfoundation.org//NONSGML kigkonsult.se iCalcrea
 tor 2.30.10//
CALSCALE:GREGORIAN
METHOD:PUBLISH
UID:9f3578af-0d3d-4c34-84f8-ff0a4aa93cde
X-WR-CALDESC:4 March 1971: Army RU-8 shot down\, Vietnam.
X-WR-RELCALID:ab7c8986a06aa679a12da58ca2b516b4
X-WR-TIMEZONE:America/New_York
BEGIN:VTIMEZONE
TZID:America/New_York
BEGIN:STANDARD
TZNAME:EST
DTSTART:20271107T020000
TZOFFSETFROM:-0400
TZOFFSETTO:-0500
RDATE:20281105T020000
END:STANDARD
BEGIN:DAYLIGHT
TZNAME:EDT
DTSTART:20270314T020000
TZOFFSETFROM:-0500
TZOFFSETTO:-0400
RDATE:20280312T020000
RDATE:20290311T020000
END:DAYLIGHT
END:VTIMEZONE
BEGIN:VEVENT
UID:c6b6292e-8678-488a-a788-b5bbb16c5747
DTSTAMP:20260425T184532Z
DESCRIPTION:4 March 1971: Army RU-8 shot down\, Vietnam.
DTSTART;TZID=America/New_York:20280304T000000
DTEND;TZID=America/New_York:20280304T235900
LOCATION:
SUMMARY:1971: Army RU-8 shot down\, Vietnam.
END:VEVENT
END:VCALENDAR
