BEGIN:VCALENDAR
VERSION:2.0
PRODID:-//archive.cryptologicfoundation.org//NONSGML kigkonsult.se iCalcrea
 tor 2.30.10//
CALSCALE:GREGORIAN
METHOD:PUBLISH
UID:19d1d310-db44-4386-8c0e-9988a0e07fc6
X-WR-CALDESC:4 March 1975: STONEHOUSE site officially closed. The signals c
 ollection site was located in Asmara\, Ethiopia and closed prematurely due
  to civil war.\n\nLearn more via the NSA.gov STONEHOUSE PDF - linked below
 .
X-WR-RELCALID:1a2d6fee030dc793ed0e9e2d4d07eafa
X-WR-TIMEZONE:America/New_York
BEGIN:VTIMEZONE
TZID:America/New_York
BEGIN:STANDARD
TZNAME:EST
DTSTART:20271107T020000
TZOFFSETFROM:-0400
TZOFFSETTO:-0500
RDATE:20281105T020000
END:STANDARD
BEGIN:DAYLIGHT
TZNAME:EDT
DTSTART:20270314T020000
TZOFFSETFROM:-0500
TZOFFSETTO:-0400
RDATE:20280312T020000
RDATE:20290311T020000
END:DAYLIGHT
END:VTIMEZONE
BEGIN:VEVENT
UID:b23aa61e-8e29-43ee-bb2a-de3e925a4d7e
DTSTAMP:20260425T185341Z
DESCRIPTION:4 March 1975: STONEHOUSE site officially closed. The signals co
 llection site was located in Asmara\, Ethiopia and closed prematurely due 
 to civil war.\n\nLearn more via the NSA.gov STONEHOUSE PDF - linked below.
DTSTART;TZID=America/New_York:20280304T000000
DTEND;TZID=America/New_York:20280304T235900
LOCATION:
SUMMARY:1975: STONEHOUSE site officially closed.
END:VEVENT
END:VCALENDAR
