BEGIN:VCALENDAR
VERSION:2.0
PRODID:-//archive.cryptologicfoundation.org//NONSGML kigkonsult.se iCalcrea
 tor 2.30.10//
CALSCALE:GREGORIAN
METHOD:PUBLISH
UID:6e5ee772-d5aa-4916-a83e-eb92e46bbe78
X-WR-CALDESC:5 March 1946: BRUSA Communications Intelligence Agreement cont
 inues US/UK partnership after WWII.
X-WR-RELCALID:2a057edc503904345411d88bce8847a2
X-WR-TIMEZONE:America/New_York
BEGIN:VTIMEZONE
TZID:America/New_York
BEGIN:STANDARD
TZNAME:EST
DTSTART:20271107T020000
TZOFFSETFROM:-0400
TZOFFSETTO:-0500
RDATE:20281105T020000
END:STANDARD
BEGIN:DAYLIGHT
TZNAME:EDT
DTSTART:20270314T020000
TZOFFSETFROM:-0500
TZOFFSETTO:-0400
RDATE:20280312T020000
RDATE:20290311T020000
END:DAYLIGHT
END:VTIMEZONE
BEGIN:VEVENT
UID:4f8c770d-445b-4674-9ed0-78d79cd635f2
DTSTAMP:20260425T183721Z
DESCRIPTION:5 March 1946: BRUSA Communications Intelligence Agreement conti
 nues US/UK partnership after WWII.
DTSTART;TZID=America/New_York:20280305T000000
DTEND;TZID=America/New_York:20280305T235900
LOCATION:
SUMMARY:1946: BRUSA Communications Intelligence Agreement
END:VEVENT
END:VCALENDAR
