BEGIN:VCALENDAR
VERSION:2.0
PRODID:-//archive.cryptologicfoundation.org//NONSGML kigkonsult.se iCalcrea
 tor 2.30.10//
CALSCALE:GREGORIAN
METHOD:PUBLISH
UID:327a236a-91f0-4138-ae28-e8a2d56ac155
X-WR-CALDESC:8 March 1953: 'Direct' SIGINT support to tactical air control 
 center began on Cho Do Island during the Korean War. Visit the link below 
 for an NSA publication about SIGINT and the Korean War.
X-WR-RELCALID:bc571472b7be4673ecf53cc43191e0b3
X-WR-TIMEZONE:America/New_York
BEGIN:VTIMEZONE
TZID:America/New_York
BEGIN:STANDARD
TZNAME:EST
DTSTART:20271107T020000
TZOFFSETFROM:-0400
TZOFFSETTO:-0500
RDATE:20281105T020000
END:STANDARD
BEGIN:DAYLIGHT
TZNAME:EDT
DTSTART:20270314T020000
TZOFFSETFROM:-0500
TZOFFSETTO:-0400
RDATE:20280312T020000
RDATE:20290311T020000
END:DAYLIGHT
END:VTIMEZONE
BEGIN:VEVENT
UID:00ee3b7f-2e4b-4e84-b5b7-a15e5bfaaa5d
DTSTAMP:20260425T185504Z
DESCRIPTION:8 March 1953: 'Direct' SIGINT support to tactical air control c
 enter began on Cho Do Island during the Korean War. Visit the link below f
 or an NSA publication about SIGINT and the Korean War.
DTSTART;TZID=America/New_York:20280308T000000
DTEND;TZID=America/New_York:20280308T235900
LOCATION:
SUMMARY:1953: 'Direct' SIGINT support to tactical air control center began 
 on Cho Do Island.
END:VEVENT
END:VCALENDAR
