BEGIN:VCALENDAR
VERSION:2.0
PRODID:-//archive.cryptologicfoundation.org//NONSGML kigkonsult.se iCalcrea
 tor 2.30.10//
CALSCALE:GREGORIAN
METHOD:PUBLISH
UID:4a72792f-b617-405d-93eb-031193b52afa
X-WR-CALDESC:9 March 1967: USAF EC-47 loss in Vietnam.
X-WR-RELCALID:564b61646d71511e06b192bb23a7734f
X-WR-TIMEZONE:America/New_York
BEGIN:VTIMEZONE
TZID:America/New_York
BEGIN:STANDARD
TZNAME:EST
DTSTART:20271107T020000
TZOFFSETFROM:-0400
TZOFFSETTO:-0500
RDATE:20281105T020000
END:STANDARD
BEGIN:DAYLIGHT
TZNAME:EDT
DTSTART:20270314T020000
TZOFFSETFROM:-0500
TZOFFSETTO:-0400
RDATE:20280312T020000
RDATE:20290311T020000
END:DAYLIGHT
END:VTIMEZONE
BEGIN:VEVENT
UID:2aca48e5-515b-471e-99d5-d2d38dbdcab2
DTSTAMP:20260425T184420Z
DESCRIPTION:9 March 1967: USAF EC-47 loss in Vietnam.
DTSTART;TZID=America/New_York:20280309T000000
DTEND;TZID=America/New_York:20280309T235900
LOCATION:
SUMMARY:1967: USAF EC-47 loss in Vietnam.
END:VEVENT
END:VCALENDAR
