BEGIN:VCALENDAR
VERSION:2.0
PRODID:-//archive.cryptologicfoundation.org//NONSGML kigkonsult.se iCalcrea
 tor 2.30.10//
CALSCALE:GREGORIAN
METHOD:PUBLISH
UID:3eb64bfa-23b7-48e4-8a29-9f0045648642
X-WR-CALDESC:10 March 1876: The first transmission of voice over electric w
 ires was from Alexander Graham Bell to his laboratory assistant Thomas Wat
 son on March 10\, 1876. This historic event was marked by Bell’s famous ph
 rase\, “Mr. Watson\, come here! I want to see you.” This first telephone t
 ransmission took place at the Bell & Watson laboratory located at 5 Exeter
  Place in Boston.
X-WR-RELCALID:0b8627987fafbdbc7058a5fb7af77d7d
X-WR-TIMEZONE:America/New_York
BEGIN:VTIMEZONE
TZID:America/New_York
BEGIN:STANDARD
TZNAME:EST
DTSTART:20271107T020000
TZOFFSETFROM:-0400
TZOFFSETTO:-0500
RDATE:20281105T020000
END:STANDARD
BEGIN:DAYLIGHT
TZNAME:EDT
DTSTART:20270314T020000
TZOFFSETFROM:-0500
TZOFFSETTO:-0400
RDATE:20280312T020000
RDATE:20290311T020000
END:DAYLIGHT
END:VTIMEZONE
BEGIN:VEVENT
UID:a913cbe2-ebad-423b-9de5-b37278f66a0c
DTSTAMP:20260425T184552Z
DESCRIPTION:10 March 1876: The first transmission of voice over electric wi
 res was from Alexander Graham Bell to his laboratory assistant Thomas Wats
 on on March 10\, 1876. This historic event was marked by Bell’s famous phr
 ase\, “Mr. Watson\, come here! I want to see you.” This first telephone tr
 ansmission took place at the Bell & Watson laboratory located at 5 Exeter 
 Place in Boston.
DTSTART;TZID=America/New_York:20280310T000000
DTEND;TZID=America/New_York:20280310T235900
LOCATION:
SUMMARY:1876: First successful voice transmission over Bell's telephone.
END:VEVENT
END:VCALENDAR
