BEGIN:VCALENDAR
VERSION:2.0
PRODID:-//archive.cryptologicfoundation.org//NONSGML kigkonsult.se iCalcrea
 tor 2.30.10//
CALSCALE:GREGORIAN
METHOD:PUBLISH
UID:15679040-c649-4bc2-a54a-3fdd3a877398
X-WR-CALDESC:10 March 1918: Radio Intelligence Service established on Mexic
 an border.
X-WR-RELCALID:dc4107702f80ad54d7ee8ceb2c411c4b
X-WR-TIMEZONE:America/New_York
BEGIN:VTIMEZONE
TZID:America/New_York
BEGIN:STANDARD
TZNAME:EST
DTSTART:20271107T020000
TZOFFSETFROM:-0400
TZOFFSETTO:-0500
RDATE:20281105T020000
END:STANDARD
BEGIN:DAYLIGHT
TZNAME:EDT
DTSTART:20270314T020000
TZOFFSETFROM:-0500
TZOFFSETTO:-0400
RDATE:20280312T020000
RDATE:20290311T020000
END:DAYLIGHT
END:VTIMEZONE
BEGIN:VEVENT
UID:bfd7c20f-f7fc-42af-9e33-4f090d6a8769
DTSTAMP:20260425T184531Z
DESCRIPTION:10 March 1918: Radio Intelligence Service established on Mexica
 n border.
DTSTART;TZID=America/New_York:20280310T000000
DTEND;TZID=America/New_York:20280310T235900
LOCATION:
SUMMARY:1918: Radio Intelligence Service\, Mexican border\, was established
 .
END:VEVENT
END:VCALENDAR
