BEGIN:VCALENDAR
VERSION:2.0
PRODID:-//archive.cryptologicfoundation.org//NONSGML kigkonsult.se iCalcrea
 tor 2.30.10//
CALSCALE:GREGORIAN
METHOD:PUBLISH
UID:f645256d-0d64-4e60-b864-74d0d14f8a8a
X-WR-CALDESC:12 March 1951: The AFSA training branch was established.
X-WR-RELCALID:cac894ae5bc53e149214d6150d2f0a5b
X-WR-TIMEZONE:America/New_York
BEGIN:VTIMEZONE
TZID:America/New_York
BEGIN:STANDARD
TZNAME:EST
DTSTART:20271107T020000
TZOFFSETFROM:-0400
TZOFFSETTO:-0500
RDATE:20281105T020000
END:STANDARD
BEGIN:DAYLIGHT
TZNAME:EDT
DTSTART:20270314T020000
TZOFFSETFROM:-0500
TZOFFSETTO:-0400
RDATE:20280312T020000
RDATE:20290311T020000
END:DAYLIGHT
END:VTIMEZONE
BEGIN:VEVENT
UID:028904c4-38e6-4a9c-9c3f-25556f44c8ee
DTSTAMP:20260425T183253Z
DESCRIPTION:12 March 1951: The AFSA training branch was established.
DTSTART;TZID=America/New_York:20280312T000000
DTEND;TZID=America/New_York:20280312T235900
LOCATION:
SUMMARY:1951: AFSA Training Branch Established
END:VEVENT
END:VCALENDAR
