BEGIN:VCALENDAR
VERSION:2.0
PRODID:-//archive.cryptologicfoundation.org//NONSGML kigkonsult.se iCalcrea
 tor 2.30.10//
CALSCALE:GREGORIAN
METHOD:PUBLISH
UID:1c5b39cd-220c-4b20-8e44-f559ff10635f
X-WR-CALDESC:Horst Feistel was a German-born cryptographer. He worked on th
 e design of ciphers at IBM and received awards for his cryptographic work.
  His research at IBM led to the development of the Lucifer and Data Encryp
 tion Standard (DES) ciphers. Feistel was one of the earliest non-governmen
 t researchers to study the design and theory of block ciphers. on 19 March
  1974\, he received a patent for 'Block Cipher Cryptographic System\,' an 
 encryption scheme that laid the foundation for the Data Encryption Standar
 d (DES). \n\nPhoto and excerpt via Wikipedia.
X-WR-RELCALID:023c12b056e6065466d4dde9843e39d6
X-WR-TIMEZONE:America/New_York
BEGIN:VTIMEZONE
TZID:America/New_York
BEGIN:STANDARD
TZNAME:EST
DTSTART:20271107T020000
TZOFFSETFROM:-0400
TZOFFSETTO:-0500
RDATE:20281105T020000
END:STANDARD
BEGIN:DAYLIGHT
TZNAME:EDT
DTSTART:20280312T020000
TZOFFSETFROM:-0500
TZOFFSETTO:-0400
RDATE:20290311T020000
END:DAYLIGHT
END:VTIMEZONE
BEGIN:VEVENT
UID:4374cc87-b501-4039-9070-9e9b44ee3555
DTSTAMP:20260425T185016Z
DESCRIPTION:Horst Feistel was a German-born cryptographer. He worked on the
  design of ciphers at IBM and received awards for his cryptographic work. 
 His research at IBM led to the development of the Lucifer and Data Encrypt
 ion Standard (DES) ciphers. Feistel was one of the earliest non-government
  researchers to study the design and theory of block ciphers. on 19 March 
 1974\, he received a patent for 'Block Cipher Cryptographic System\,' an e
 ncryption scheme that laid the foundation for the Data Encryption Standard
  (DES). \n\nPhoto and excerpt via Wikipedia.
DTSTART;TZID=America/New_York:20280319T000000
DTEND;TZID=America/New_York:20280319T235900
LOCATION:
SUMMARY:1974: Horst Feistel received a patent for 'Block Cipher Cryptograph
 ic System.'
END:VEVENT
END:VCALENDAR
