BEGIN:VCALENDAR
VERSION:2.0
PRODID:-//archive.cryptologicfoundation.org//NONSGML kigkonsult.se iCalcrea
 tor 2.30.10//
CALSCALE:GREGORIAN
METHOD:PUBLISH
UID:b6e44fbc-61ed-448c-8985-b50e4f8e15b7
X-WR-CALDESC:Lieutenant General Michael V. Hayden\, USAF\, served as the Di
 rector\, National Security Agency/Chief\, Central Security Service (NSA/CS
 S)\, Fort George G. Meade\, MD\, from March 1999 to April 2005. As the Dir
 ector of NSA and Chief of CSS\, he was responsible for a combat support ag
 ency of the Department of Defense with military and civilian personnel sta
 tioned worldwide.
X-WR-RELCALID:1250c4fe47b17377429d9d7d61777c48
X-WR-TIMEZONE:America/New_York
BEGIN:VTIMEZONE
TZID:America/New_York
BEGIN:STANDARD
TZNAME:EST
DTSTART:20271107T020000
TZOFFSETFROM:-0400
TZOFFSETTO:-0500
RDATE:20281105T020000
END:STANDARD
BEGIN:DAYLIGHT
TZNAME:EDT
DTSTART:20280312T020000
TZOFFSETFROM:-0500
TZOFFSETTO:-0400
RDATE:20290311T020000
END:DAYLIGHT
END:VTIMEZONE
BEGIN:VEVENT
UID:a3e287bf-9b57-439b-8e8d-3c5a4a533534
DTSTAMP:20260425T184211Z
DESCRIPTION:Lieutenant General Michael V. Hayden\, USAF\, served as the Dir
 ector\, National Security Agency/Chief\, Central Security Service (NSA/CSS
 )\, Fort George G. Meade\, MD\, from March 1999 to April 2005. As the Dire
 ctor of NSA and Chief of CSS\, he was responsible for a combat support age
 ncy of the Department of Defense with military and civilian personnel stat
 ioned worldwide.
DTSTART;TZID=America/New_York:20280326T000000
DTEND;TZID=America/New_York:20280326T235900
LOCATION:
SUMMARY:1999: Lt Gen Michael Hayden\, USAF\, became DIRNSA.
END:VEVENT
END:VCALENDAR
