BEGIN:VCALENDAR
VERSION:2.0
PRODID:-//archive.cryptologicfoundation.org//NONSGML kigkonsult.se iCalcrea
 tor 2.30.10//
CALSCALE:GREGORIAN
METHOD:PUBLISH
UID:cd9acab7-46ce-49be-894c-589057c9536c
X-WR-CALDESC:1 April 1952: The U.S. Navy's cryptologic organization became 
 the Naval Security Group.
X-WR-RELCALID:c000832462fea82cbcb80a006f069c8b
X-WR-TIMEZONE:America/New_York
BEGIN:VTIMEZONE
TZID:America/New_York
BEGIN:STANDARD
TZNAME:EST
DTSTART:20271107T020000
TZOFFSETFROM:-0400
TZOFFSETTO:-0500
RDATE:20281105T020000
END:STANDARD
BEGIN:DAYLIGHT
TZNAME:EDT
DTSTART:20280312T020000
TZOFFSETFROM:-0500
TZOFFSETTO:-0400
RDATE:20290311T020000
END:DAYLIGHT
END:VTIMEZONE
BEGIN:VEVENT
UID:2acfbcd4-df05-4ec6-b170-1ec75c22d686
DTSTAMP:20260425T201347Z
DESCRIPTION:1 April 1952: The U.S. Navy's cryptologic organization became t
 he Naval Security Group.
DTSTART;TZID=America/New_York:20280401T000000
DTEND;TZID=America/New_York:20280401T235900
LOCATION:
SUMMARY:1952: U.S. Navy's crypto org becomes Naval Security Group.
END:VEVENT
END:VCALENDAR
