BEGIN:VCALENDAR
VERSION:2.0
PRODID:-//archive.cryptologicfoundation.org//NONSGML kigkonsult.se iCalcrea
 tor 2.30.10//
CALSCALE:GREGORIAN
METHOD:PUBLISH
UID:0994187e-f35a-4aed-b530-06714a51751b
X-WR-CALDESC:1 April 2014: ADM Michael S. Rogers\, USN\, sworn in as Direct
 or\, NSA\, and Commander\, USCYBERCOM.
X-WR-RELCALID:cadb8f6e932ed58c20c1f7a9806616ef
X-WR-TIMEZONE:America/New_York
BEGIN:VTIMEZONE
TZID:America/New_York
BEGIN:STANDARD
TZNAME:EST
DTSTART:20271107T020000
TZOFFSETFROM:-0400
TZOFFSETTO:-0500
RDATE:20281105T020000
END:STANDARD
BEGIN:DAYLIGHT
TZNAME:EDT
DTSTART:20280312T020000
TZOFFSETFROM:-0500
TZOFFSETTO:-0400
RDATE:20290311T020000
END:DAYLIGHT
END:VTIMEZONE
BEGIN:VEVENT
UID:28ffc281-06f6-46ca-9a4d-8cc2da1317b9
DTSTAMP:20260425T202728Z
DESCRIPTION:1 April 2014: ADM Michael S. Rogers\, USN\, sworn in as Directo
 r\, NSA\, and Commander\, USCYBERCOM.
DTSTART;TZID=America/New_York:20280401T000000
DTEND;TZID=America/New_York:20280401T235900
LOCATION:
SUMMARY:2014: ADM Michael S. Rogers\, USN\, sworn in at NSA
END:VEVENT
END:VCALENDAR
