BEGIN:VCALENDAR
VERSION:2.0
PRODID:-//archive.cryptologicfoundation.org//NONSGML kigkonsult.se iCalcrea
 tor 2.30.10//
CALSCALE:GREGORIAN
METHOD:PUBLISH
UID:92e3f6c8-f948-49be-a040-463e8dc46354
X-WR-CALDESC:6 April 1943: First break into the Japanese Water Transport Co
 de.
X-WR-RELCALID:c48e5438e28b0bc25a9194534073d6ae
X-WR-TIMEZONE:America/New_York
BEGIN:VTIMEZONE
TZID:America/New_York
BEGIN:STANDARD
TZNAME:EST
DTSTART:20271107T020000
TZOFFSETFROM:-0400
TZOFFSETTO:-0500
RDATE:20281105T020000
END:STANDARD
BEGIN:DAYLIGHT
TZNAME:EDT
DTSTART:20280312T020000
TZOFFSETFROM:-0500
TZOFFSETTO:-0400
RDATE:20290311T020000
END:DAYLIGHT
END:VTIMEZONE
BEGIN:VEVENT
UID:2066ad34-1d17-4e38-9def-b13345388be6
DTSTAMP:20260425T201619Z
DESCRIPTION:6 April 1943: First break into the Japanese Water Transport Cod
 e.
DTSTART;TZID=America/New_York:20280406T000000
DTEND;TZID=America/New_York:20280406T235900
LOCATION:
SUMMARY:1943: First break in the Japanese Water Transport Code.
END:VEVENT
END:VCALENDAR
