BEGIN:VCALENDAR
VERSION:2.0
PRODID:-//archive.cryptologicfoundation.org//NONSGML kigkonsult.se iCalcrea
 tor 2.30.10//
CALSCALE:GREGORIAN
METHOD:PUBLISH
UID:d1f4d419-25a9-4e54-9264-873d04352923
X-WR-CALDESC:7 April 1964: IBM introduced the System/360 mainframe computer
  system family.\n\nIt was the first family of computers designed to cover 
 the complete range of applications\, from small to large\, both commercial
  and scientific. The design made a clear distinction between architecture 
 and implementation\, allowing IBM to release a suite of compatible designs
  at different prices.\n\nSee the IBM Press Release via the link below.\n\n
 Photo is of the IBM System/360 Model 30 at the Computer History Museum. Ph
 oto info:  'IBM System360 Model 30' by Dave Ross - Flickr: IBM System/360 
 Model 30. Licensed under CC BY 2.0 via Wikimedia Commons - http://commons.
 wikimedia.org/wiki/File:IBM_System360_Model_30.jpg#/media/File:IBM_System3
 60_Model_30.jpg
X-WR-RELCALID:d91b54d48254680b1f20e96f7e121bd8
X-WR-TIMEZONE:America/New_York
BEGIN:VTIMEZONE
TZID:America/New_York
BEGIN:STANDARD
TZNAME:EST
DTSTART:20271107T020000
TZOFFSETFROM:-0400
TZOFFSETTO:-0500
RDATE:20281105T020000
END:STANDARD
BEGIN:DAYLIGHT
TZNAME:EDT
DTSTART:20280312T020000
TZOFFSETFROM:-0500
TZOFFSETTO:-0400
RDATE:20290311T020000
END:DAYLIGHT
END:VTIMEZONE
BEGIN:VEVENT
UID:5554d0d6-21af-40d3-8b58-72419d659e6e
DTSTAMP:20260425T200443Z
DESCRIPTION:7 April 1964: IBM introduced the System/360 mainframe computer 
 system family.\n\nIt was the first family of computers designed to cover t
 he complete range of applications\, from small to large\, both commercial 
 and scientific. The design made a clear distinction between architecture a
 nd implementation\, allowing IBM to release a suite of compatible designs 
 at different prices.\n\nSee the IBM Press Release via the link below.\n\nP
 hoto is of the IBM System/360 Model 30 at the Computer History Museum. Pho
 to info:  'IBM System360 Model 30' by Dave Ross - Flickr: IBM System/360 M
 odel 30. Licensed under CC BY 2.0 via Wikimedia Commons - http://commons.w
 ikimedia.org/wiki/File:IBM_System360_Model_30.jpg#/media/File:IBM_System36
 0_Model_30.jpg
DTSTART;TZID=America/New_York:20280407T060000
DTEND;TZID=America/New_York:20280407T060001
LOCATION:
SUMMARY:1964: IBM Introduced the System/360
END:VEVENT
END:VCALENDAR
