BEGIN:VCALENDAR
VERSION:2.0
PRODID:-//archive.cryptologicfoundation.org//NONSGML kigkonsult.se iCalcrea
 tor 2.30.10//
CALSCALE:GREGORIAN
METHOD:PUBLISH
UID:490e18c0-c20b-4c3d-86dc-ada12d7b6def
X-WR-CALDESC:12 April 2001: China released 24 USN EP3 crewmen following col
 lision with PRC fighter.
X-WR-RELCALID:9948bea623be60b0e7f0a238726bb7f9
X-WR-TIMEZONE:America/New_York
BEGIN:VTIMEZONE
TZID:America/New_York
BEGIN:STANDARD
TZNAME:EST
DTSTART:20271107T020000
TZOFFSETFROM:-0400
TZOFFSETTO:-0500
RDATE:20281105T020000
END:STANDARD
BEGIN:DAYLIGHT
TZNAME:EDT
DTSTART:20280312T020000
TZOFFSETFROM:-0500
TZOFFSETTO:-0400
RDATE:20290311T020000
END:DAYLIGHT
END:VTIMEZONE
BEGIN:VEVENT
UID:b43da517-2fa3-4526-a329-9cbe33c38f60
DTSTAMP:20260425T204130Z
DESCRIPTION:12 April 2001: China released 24 USN EP3 crewmen following coll
 ision with PRC fighter.
DTSTART;TZID=America/New_York:20280412T000000
DTEND;TZID=America/New_York:20280412T235900
LOCATION:
SUMMARY:2001: China Released 24 USN EP3 Crewmen.
END:VEVENT
END:VCALENDAR
