BEGIN:VCALENDAR
VERSION:2.0
PRODID:-//archive.cryptologicfoundation.org//NONSGML kigkonsult.se iCalcrea
 tor 2.30.10//
CALSCALE:GREGORIAN
METHOD:PUBLISH
UID:f8d29415-294c-4f2a-847c-30d1a040ac3e
X-WR-CALDESC:14 April 1969: 'Der Spiegel' reported on what might have been 
 the first case of computer espionage\, an operation run against IBM's West
  German affiliate from East Germany.
X-WR-RELCALID:94bfe6cca614dcc959a4fd236a81950d
X-WR-TIMEZONE:America/New_York
BEGIN:VTIMEZONE
TZID:America/New_York
BEGIN:STANDARD
TZNAME:EST
DTSTART:20271107T020000
TZOFFSETFROM:-0400
TZOFFSETTO:-0500
RDATE:20281105T020000
END:STANDARD
BEGIN:DAYLIGHT
TZNAME:EDT
DTSTART:20280312T020000
TZOFFSETFROM:-0500
TZOFFSETTO:-0400
RDATE:20290311T020000
END:DAYLIGHT
END:VTIMEZONE
BEGIN:VEVENT
UID:ce9a4343-a530-4a72-9836-5132214c2039
DTSTAMP:20260425T200317Z
DESCRIPTION:14 April 1969: 'Der Spiegel' reported on what might have been t
 he first case of computer espionage\, an operation run against IBM's West 
 German affiliate from East Germany.
DTSTART;TZID=America/New_York:20280414T000000
DTEND;TZID=America/New_York:20280414T235900
LOCATION:
SUMMARY:1969: 'Der Spiegel' Reported on Computer Espionage
END:VEVENT
END:VCALENDAR
