BEGIN:VCALENDAR
VERSION:2.0
PRODID:-//archive.cryptologicfoundation.org//NONSGML kigkonsult.se iCalcrea
 tor 2.30.10//
CALSCALE:GREGORIAN
METHOD:PUBLISH
UID:33c84c47-d79c-40de-889f-dbb7a2651b1c
X-WR-CALDESC:18 April 1967: NSA experts spoke in public about computer secu
 rity at the Spring Joint Computer Conference in Atlantic City\, NJ.
X-WR-RELCALID:0c6fe51cc4b1bbc41d3081e04d0127f9
X-WR-TIMEZONE:America/New_York
BEGIN:VTIMEZONE
TZID:America/New_York
BEGIN:STANDARD
TZNAME:EST
DTSTART:20271107T020000
TZOFFSETFROM:-0400
TZOFFSETTO:-0500
RDATE:20281105T020000
END:STANDARD
BEGIN:DAYLIGHT
TZNAME:EDT
DTSTART:20280312T020000
TZOFFSETFROM:-0500
TZOFFSETTO:-0400
RDATE:20290311T020000
END:DAYLIGHT
END:VTIMEZONE
BEGIN:VEVENT
UID:33b2ff08-aace-4e76-934d-cc4e80a4fb70
DTSTAMP:20260425T202728Z
DESCRIPTION:18 April 1967: NSA experts spoke in public about computer secur
 ity at the Spring Joint Computer Conference in Atlantic City\, NJ.
DTSTART;TZID=America/New_York:20280418T000000
DTEND;TZID=America/New_York:20280418T235900
LOCATION:
SUMMARY:1967: NSA Experts Spoke in Public on Computer Security at Atlantic 
 City Conference.
END:VEVENT
END:VCALENDAR
