BEGIN:VCALENDAR
VERSION:2.0
PRODID:-//archive.cryptologicfoundation.org//NONSGML kigkonsult.se iCalcrea
 tor 2.30.10//
CALSCALE:GREGORIAN
METHOD:PUBLISH
UID:7b31f960-bc58-483a-a798-a5c2e12d1f25
X-WR-CALDESC:1 May 1943: GC&CS activated the Heath Robinson Machine (predec
 essor to Colossus). It had a frame onto which two teleprinter paper tapes 
 were mounted -- weaving their way through a convoluted network of reels --
  and read optically\; a rack containing counters\, and another rack for va
 lved logic circuits.  The machine was an effective prototype\, and paved t
 he way for creation of the Colossus\, which swapped the tape used in the H
 eath Robinson machine for an electronic system.\n\nThe machine was named a
 fter Heath Robinson - a British cartoonist and illustrator best known for 
 designing fantastically complicated machines. To describe something as Hea
 th Robinson-esque is to describe an invention that is simultaneously ingen
 ious\, extremely complicated\, and makeshift. One of Robinson's illustrati
 ons is featured here - the pancake-making machine!\n\nLearn more via the W
 IRED article by Olivia Solon linked below.
X-WR-RELCALID:b43042713814d3be35e22e24802e0f89
X-WR-TIMEZONE:America/New_York
BEGIN:VTIMEZONE
TZID:America/New_York
BEGIN:STANDARD
TZNAME:EST
DTSTART:20271107T020000
TZOFFSETFROM:-0400
TZOFFSETTO:-0500
RDATE:20281105T020000
END:STANDARD
BEGIN:DAYLIGHT
TZNAME:EDT
DTSTART:20280312T020000
TZOFFSETFROM:-0500
TZOFFSETTO:-0400
RDATE:20290311T020000
END:DAYLIGHT
END:VTIMEZONE
BEGIN:VEVENT
UID:01cd84c9-38ca-4736-b217-14ff7c728caa
DTSTAMP:20260425T215603Z
DESCRIPTION:1 May 1943: GC&CS activated the Heath Robinson Machine (predece
 ssor to Colossus). It had a frame onto which two teleprinter paper tapes w
 ere mounted -- weaving their way through a convoluted network of reels -- 
 and read optically\; a rack containing counters\, and another rack for val
 ved logic circuits.  The machine was an effective prototype\, and paved th
 e way for creation of the Colossus\, which swapped the tape used in the He
 ath Robinson machine for an electronic system.\n\nThe machine was named af
 ter Heath Robinson - a British cartoonist and illustrator best known for d
 esigning fantastically complicated machines. To describe something as Heat
 h Robinson-esque is to describe an invention that is simultaneously ingeni
 ous\, extremely complicated\, and makeshift. One of Robinson's illustratio
 ns is featured here - the pancake-making machine!\n\nLearn more via the WI
 RED article by Olivia Solon linked below.
DTSTART;TZID=America/New_York:20280501T060000
DTEND;TZID=America/New_York:20280501T060001
LOCATION:
SUMMARY:1943: GC & CS activated Heath Robinson Machine (predecessor to Colo
 ssus).
END:VEVENT
END:VCALENDAR
