BEGIN:VCALENDAR
VERSION:2.0
PRODID:-//archive.cryptologicfoundation.org//NONSGML kigkonsult.se iCalcrea
 tor 2.30.10//
CALSCALE:GREGORIAN
METHOD:PUBLISH
UID:f35eead0-95ee-4df5-8c67-3de9bba4428b
X-WR-CALDESC:7 May 1942: 837 Signal Security Detachment\, first U.S. SIGINT
 ers arrive in Australia.
X-WR-RELCALID:4e03b43c6218748c55a38e301739b459
X-WR-TIMEZONE:America/New_York
BEGIN:VTIMEZONE
TZID:America/New_York
BEGIN:STANDARD
TZNAME:EST
DTSTART:20271107T020000
TZOFFSETFROM:-0400
TZOFFSETTO:-0500
RDATE:20281105T020000
RDATE:20291104T020000
END:STANDARD
BEGIN:DAYLIGHT
TZNAME:EDT
DTSTART:20280312T020000
TZOFFSETFROM:-0500
TZOFFSETTO:-0400
RDATE:20290311T020000
END:DAYLIGHT
END:VTIMEZONE
BEGIN:VEVENT
UID:ad445b5b-eb8a-4fc9-af16-6f130eb43b7a
DTSTAMP:20260425T214056Z
DESCRIPTION:7 May 1942: 837 Signal Security Detachment\, first U.S. SIGINTe
 rs arrive in Australia.
DTSTART;TZID=America/New_York:20280507T000000
DTEND;TZID=America/New_York:20280507T235900
LOCATION:
SUMMARY:1942: First SIGINTers arrive in Australia
END:VEVENT
END:VCALENDAR
