BEGIN:VCALENDAR
VERSION:2.0
PRODID:-//archive.cryptologicfoundation.org//NONSGML kigkonsult.se iCalcrea
 tor 2.30.10//
CALSCALE:GREGORIAN
METHOD:PUBLISH
UID:f6abc48f-9d10-4527-bd26-531abd3ee76b
X-WR-CALDESC:10 May 1933: The U.S. Senate debated the bill 'Protection of G
 overnment Records' to establish Information Security as U.S. government re
 sponsibility.
X-WR-RELCALID:6f65c0fa8f9351eda63c7fcc2426a318
X-WR-TIMEZONE:America/New_York
BEGIN:VTIMEZONE
TZID:America/New_York
BEGIN:STANDARD
TZNAME:EST
DTSTART:20271107T020000
TZOFFSETFROM:-0400
TZOFFSETTO:-0500
RDATE:20281105T020000
RDATE:20291104T020000
END:STANDARD
BEGIN:DAYLIGHT
TZNAME:EDT
DTSTART:20280312T020000
TZOFFSETFROM:-0500
TZOFFSETTO:-0400
RDATE:20290311T020000
END:DAYLIGHT
END:VTIMEZONE
BEGIN:VEVENT
UID:87e47e78-14d2-405d-b545-587fbfbc4a60
DTSTAMP:20260425T214233Z
DESCRIPTION:10 May 1933: The U.S. Senate debated the bill 'Protection of Go
 vernment Records' to establish Information Security as U.S. government res
 ponsibility.
DTSTART;TZID=America/New_York:20280510T000000
DTEND;TZID=America/New_York:20280510T235900
LOCATION:
SUMMARY:1933: U.S. Senate debates Information Security as government respon
 sibility.
END:VEVENT
END:VCALENDAR
