BEGIN:VCALENDAR
VERSION:2.0
PRODID:-//archive.cryptologicfoundation.org//NONSGML kigkonsult.se iCalcrea
 tor 2.30.10//
CALSCALE:GREGORIAN
METHOD:PUBLISH
UID:27b42c7a-68a8-4971-9209-757323c6d5af
X-WR-CALDESC:15 May 1973: The National Bureau of Standards (in cooperation 
 with NSA) began solicitation for a government-wide data encryption standar
 d. DES was adopted three and a half years later.
X-WR-RELCALID:4420cf1ad3cbf2005c5f03603feb6487
X-WR-TIMEZONE:America/New_York
BEGIN:VTIMEZONE
TZID:America/New_York
BEGIN:STANDARD
TZNAME:EST
DTSTART:20271107T020000
TZOFFSETFROM:-0400
TZOFFSETTO:-0500
RDATE:20281105T020000
RDATE:20291104T020000
END:STANDARD
BEGIN:DAYLIGHT
TZNAME:EDT
DTSTART:20280312T020000
TZOFFSETFROM:-0500
TZOFFSETTO:-0400
RDATE:20290311T020000
END:DAYLIGHT
END:VTIMEZONE
BEGIN:VEVENT
UID:8717dc93-84a2-4e0b-aca9-0fbc82d17844
DTSTAMP:20260425T214142Z
DESCRIPTION:15 May 1973: The National Bureau of Standards (in cooperation w
 ith NSA) began solicitation for a government-wide data encryption standard
 . DES was adopted three and a half years later.
DTSTART;TZID=America/New_York:20280515T000000
DTEND;TZID=America/New_York:20280515T235900
LOCATION:
SUMMARY:1973: Search for government-wide data encryption standard begins.
END:VEVENT
END:VCALENDAR
