BEGIN:VCALENDAR
VERSION:2.0
PRODID:-//archive.cryptologicfoundation.org//NONSGML kigkonsult.se iCalcrea
 tor 2.30.10//
CALSCALE:GREGORIAN
METHOD:PUBLISH
UID:0181195c-2ec9-43a0-8c34-947b74cabbd4
X-WR-CALDESC:17 May 1985: Electronic Security Command took over USAF COMSEC
  mission.
X-WR-RELCALID:d49668c44e69eb50ae8d4bc7d4242e7a
X-WR-TIMEZONE:America/New_York
BEGIN:VTIMEZONE
TZID:America/New_York
BEGIN:STANDARD
TZNAME:EST
DTSTART:20271107T020000
TZOFFSETFROM:-0400
TZOFFSETTO:-0500
RDATE:20281105T020000
RDATE:20291104T020000
END:STANDARD
BEGIN:DAYLIGHT
TZNAME:EDT
DTSTART:20280312T020000
TZOFFSETFROM:-0500
TZOFFSETTO:-0400
RDATE:20290311T020000
END:DAYLIGHT
END:VTIMEZONE
BEGIN:VEVENT
UID:236c399e-a2db-499e-82d1-9ea4df821079
DTSTAMP:20260425T214024Z
DESCRIPTION:17 May 1985: Electronic Security Command took over USAF COMSEC 
 mission.
DTSTART;TZID=America/New_York:20280517T000000
DTEND;TZID=America/New_York:20280517T235900
LOCATION:
SUMMARY:1985: Electronic Security Command took over USAF COMSEC mission.
END:VEVENT
END:VCALENDAR
