BEGIN:VCALENDAR
VERSION:2.0
PRODID:-//archive.cryptologicfoundation.org//NONSGML kigkonsult.se iCalcrea
 tor 2.30.10//
CALSCALE:GREGORIAN
METHOD:PUBLISH
UID:d31b83e7-2dce-43fc-aa5b-796e7feb721a
X-WR-CALDESC:21 May 1975: The William F. Friedman Auditorium was dedicated 
 at NSA. \n\nLearn more about William Friedman via the link below.
X-WR-RELCALID:e9fa2e3f81cd379f359131aadda2dae1
X-WR-TIMEZONE:America/New_York
BEGIN:VTIMEZONE
TZID:America/New_York
BEGIN:STANDARD
TZNAME:EST
DTSTART:20271107T020000
TZOFFSETFROM:-0400
TZOFFSETTO:-0500
RDATE:20281105T020000
RDATE:20291104T020000
END:STANDARD
BEGIN:DAYLIGHT
TZNAME:EDT
DTSTART:20280312T020000
TZOFFSETFROM:-0500
TZOFFSETTO:-0400
RDATE:20290311T020000
END:DAYLIGHT
END:VTIMEZONE
BEGIN:VEVENT
UID:f63a6144-5eb1-48bf-ac30-63c631ba1301
DTSTAMP:20260425T215455Z
DESCRIPTION:21 May 1975: The William F. Friedman Auditorium was dedicated a
 t NSA. \n\nLearn more about William Friedman via the link below.
DTSTART;TZID=America/New_York:20280521T000000
DTEND;TZID=America/New_York:20280521T235900
LOCATION:
SUMMARY:1975: William F. Friedman Auditorium dedicated at NSA.
END:VEVENT
END:VCALENDAR
