BEGIN:VCALENDAR
VERSION:2.0
PRODID:-//archive.cryptologicfoundation.org//NONSGML kigkonsult.se iCalcrea
 tor 2.30.10//
CALSCALE:GREGORIAN
METHOD:PUBLISH
UID:8ca0f9cd-a9b8-47da-841d-5f97369cfbf1
X-WR-CALDESC:21 May 2010: Initial operational capability for the U.S. Cyber
  Command was established at Ft. Meade with DIRNSA dual-hatted as its comma
 nder. General Alexander was promoted to four-star rank\, becoming one of 3
 8 US Generals\, and took charge of U.S. Cyber Command in a ceremony at For
 t Meade that was attended by Commander of U.S. Central Command GEN David P
 etraeus\, and Secretary of Defense Robert M. Gates. USCYBERCOM reached ful
 l operational capability on 31 October 2010.\n\nThe command assumed respon
 sibility for several existing organizations. The Joint Task Force for Glob
 al Network Operations (JTF-GNO) and the Joint Functional Component Command
  for Network Warfare (JFCC-NW) were absorbed by the command. The Defense I
 nformation Systems Agency\, where JTF-GNO operated\, provides technical as
 sistance for network and information assurance to USCYBERCOM\, and is movi
 ng its headquarters to Ft. Meade.\n\nLearn more via the link below.
X-WR-RELCALID:ca0eaf9c60475f50169b153d271b27be
X-WR-TIMEZONE:America/New_York
BEGIN:VTIMEZONE
TZID:America/New_York
BEGIN:STANDARD
TZNAME:EST
DTSTART:20271107T020000
TZOFFSETFROM:-0400
TZOFFSETTO:-0500
RDATE:20281105T020000
RDATE:20291104T020000
END:STANDARD
BEGIN:DAYLIGHT
TZNAME:EDT
DTSTART:20280312T020000
TZOFFSETFROM:-0500
TZOFFSETTO:-0400
RDATE:20290311T020000
END:DAYLIGHT
END:VTIMEZONE
BEGIN:VEVENT
UID:e75104af-5c5d-4889-a982-faf28d0e36d7
DTSTAMP:20260425T213124Z
DESCRIPTION:21 May 2010: Initial operational capability for the U.S. Cyber 
 Command was established at Ft. Meade with DIRNSA dual-hatted as its comman
 der. General Alexander was promoted to four-star rank\, becoming one of 38
  US Generals\, and took charge of U.S. Cyber Command in a ceremony at Fort
  Meade that was attended by Commander of U.S. Central Command GEN David Pe
 traeus\, and Secretary of Defense Robert M. Gates. USCYBERCOM reached full
  operational capability on 31 October 2010.\n\nThe command assumed respons
 ibility for several existing organizations. The Joint Task Force for Globa
 l Network Operations (JTF-GNO) and the Joint Functional Component Command 
 for Network Warfare (JFCC-NW) were absorbed by the command. The Defense In
 formation Systems Agency\, where JTF-GNO operated\, provides technical ass
 istance for network and information assurance to USCYBERCOM\, and is movin
 g its headquarters to Ft. Meade.\n\nLearn more via the link below.
DTSTART;TZID=America/New_York:20280521T060000
DTEND;TZID=America/New_York:20280521T060001
LOCATION:
SUMMARY:2010: US Cyber Command established.
END:VEVENT
END:VCALENDAR
