BEGIN:VCALENDAR
VERSION:2.0
PRODID:-//archive.cryptologicfoundation.org//NONSGML kigkonsult.se iCalcrea
 tor 2.30.10//
CALSCALE:GREGORIAN
METHOD:PUBLISH
UID:1b4c5446-9805-4e4f-902d-7d622e6abefb
X-WR-CALDESC:23 May 1975: The National Security Council requested a plan fo
 r implementation of Washington Protected Communications Zone and Executive
  Secure Voice Network in response to the Soviet intercept threat.
X-WR-RELCALID:79619970156dbff4e48a26f7fc25784d
X-WR-TIMEZONE:America/New_York
BEGIN:VTIMEZONE
TZID:America/New_York
BEGIN:STANDARD
TZNAME:EST
DTSTART:20271107T020000
TZOFFSETFROM:-0400
TZOFFSETTO:-0500
RDATE:20281105T020000
RDATE:20291104T020000
END:STANDARD
BEGIN:DAYLIGHT
TZNAME:EDT
DTSTART:20280312T020000
TZOFFSETFROM:-0500
TZOFFSETTO:-0400
RDATE:20290311T020000
END:DAYLIGHT
END:VTIMEZONE
BEGIN:VEVENT
UID:4f3694ed-4046-4593-805c-362320757bff
DTSTAMP:20260425T214142Z
DESCRIPTION:23 May 1975: The National Security Council requested a plan for
  implementation of Washington Protected Communications Zone and Executive 
 Secure Voice Network in response to the Soviet intercept threat.
DTSTART;TZID=America/New_York:20280523T000000
DTEND;TZID=America/New_York:20280523T235900
LOCATION:
SUMMARY:1975: National Security Council Seeks Secure Voice Network
END:VEVENT
END:VCALENDAR
