BEGIN:VCALENDAR
VERSION:2.0
PRODID:-//archive.cryptologicfoundation.org//NONSGML kigkonsult.se iCalcrea
 tor 2.30.10//
CALSCALE:GREGORIAN
METHOD:PUBLISH
UID:28815afb-9966-48ae-893d-e47ae5b27af4
X-WR-CALDESC:27 May 1962: ASA carried out its first Airborne Platform Missi
 on in Vietnam.
X-WR-RELCALID:4d335f7a7ac4a9ae25d0ad8f7d9d53c7
X-WR-TIMEZONE:America/New_York
BEGIN:VTIMEZONE
TZID:America/New_York
BEGIN:STANDARD
TZNAME:EST
DTSTART:20271107T020000
TZOFFSETFROM:-0400
TZOFFSETTO:-0500
RDATE:20281105T020000
RDATE:20291104T020000
END:STANDARD
BEGIN:DAYLIGHT
TZNAME:EDT
DTSTART:20280312T020000
TZOFFSETFROM:-0500
TZOFFSETTO:-0400
RDATE:20290311T020000
END:DAYLIGHT
END:VTIMEZONE
BEGIN:VEVENT
UID:09576f4e-9b04-46f5-b8fd-1950b5e44418
DTSTAMP:20260425T215138Z
DESCRIPTION:27 May 1962: ASA carried out its first Airborne Platform Missio
 n in Vietnam.
DTSTART;TZID=America/New_York:20280527T000000
DTEND;TZID=America/New_York:20280527T235900
LOCATION:
SUMMARY:1962: ASA carried out first Airborne Platform Mission in Vietnam.
END:VEVENT
END:VCALENDAR
