BEGIN:VCALENDAR
VERSION:2.0
PRODID:-//archive.cryptologicfoundation.org//NONSGML kigkonsult.se iCalcrea
 tor 2.30.10//
CALSCALE:GREGORIAN
METHOD:PUBLISH
UID:c414fdd9-63e1-4927-844f-311ce506abe9
X-WR-CALDESC:29 June 1988: German police broke up the 'Hannover Hackers' fo
 r penetrating US computers.
X-WR-RELCALID:c10838931ab8589ac78ce5971c6057ee
X-WR-TIMEZONE:America/New_York
BEGIN:VTIMEZONE
TZID:America/New_York
BEGIN:STANDARD
TZNAME:EST
DTSTART:20271107T020000
TZOFFSETFROM:-0400
TZOFFSETTO:-0500
RDATE:20281105T020000
RDATE:20291104T020000
END:STANDARD
BEGIN:DAYLIGHT
TZNAME:EDT
DTSTART:20280312T020000
TZOFFSETFROM:-0500
TZOFFSETTO:-0400
RDATE:20290311T020000
END:DAYLIGHT
END:VTIMEZONE
BEGIN:VEVENT
UID:183c4850-e69e-4e79-bde8-58131a581243
DTSTAMP:20260425T214857Z
DESCRIPTION:29 June 1988: German police broke up the 'Hannover Hackers' for
  penetrating US computers.
DTSTART;TZID=America/New_York:20280528T000000
DTEND;TZID=America/New_York:20280528T235900
LOCATION:
SUMMARY:1988: German police broke up the 'Hannover Hackers.'
END:VEVENT
END:VCALENDAR
