BEGIN:VCALENDAR
VERSION:2.0
PRODID:-//archive.cryptologicfoundation.org//NONSGML kigkonsult.se iCalcrea
 tor 2.30.10//
CALSCALE:GREGORIAN
METHOD:PUBLISH
UID:1191b80f-85d2-4c84-ae51-8c9fbf9d11b0
X-WR-CALDESC:11 June 1941: Herbert O. Yardley was hired by the Canadian gov
 ernment to help set up a cryptologic section of Canada's National Research
  Council. Learn more about Yardley via the link below to 'The Many Lives o
 f Herbert O. Yardley' PDF.
X-WR-RELCALID:af7fd37d73d3ed37bfc9882c39f72603
X-WR-TIMEZONE:America/New_York
BEGIN:VTIMEZONE
TZID:America/New_York
BEGIN:STANDARD
TZNAME:EST
DTSTART:20271107T020000
TZOFFSETFROM:-0400
TZOFFSETTO:-0500
RDATE:20281105T020000
RDATE:20291104T020000
END:STANDARD
BEGIN:DAYLIGHT
TZNAME:EDT
DTSTART:20280312T020000
TZOFFSETFROM:-0500
TZOFFSETTO:-0400
RDATE:20290311T020000
END:DAYLIGHT
END:VTIMEZONE
BEGIN:VEVENT
UID:14361b96-c205-4d4a-af38-4bea31c8d48e
DTSTAMP:20260425T231826Z
DESCRIPTION:11 June 1941: Herbert O. Yardley was hired by the Canadian gove
 rnment to help set up a cryptologic section of Canada's National Research 
 Council. Learn more about Yardley via the link below to 'The Many Lives of
  Herbert O. Yardley' PDF.
DTSTART;TZID=America/New_York:20280611T000000
DTEND;TZID=America/New_York:20280611T235900
LOCATION:
SUMMARY:1941: Herbert O. Yardley hired by Canada's National Research Counci
 l.
END:VEVENT
END:VCALENDAR
