BEGIN:VCALENDAR
VERSION:2.0
PRODID:-//archive.cryptologicfoundation.org//NONSGML kigkonsult.se iCalcrea
 tor 2.30.10//
CALSCALE:GREGORIAN
METHOD:PUBLISH
UID:1819b920-addc-4205-8628-e15907bf0153
X-WR-CALDESC:24 June 1918: The 'Potomac Code' - the first of the AEF 'River
 ' series of field codes was issued.\n\nSee the link below for 'American Ar
 my Field Codes in the American Expeditionary Forces during the First World
  War.' - an NSA declassified Friedman document.
X-WR-RELCALID:24ccfaf183ea84799f65252ecc849f60
X-WR-TIMEZONE:America/New_York
BEGIN:VTIMEZONE
TZID:America/New_York
BEGIN:STANDARD
TZNAME:EST
DTSTART:20271107T020000
TZOFFSETFROM:-0400
TZOFFSETTO:-0500
RDATE:20281105T020000
RDATE:20291104T020000
END:STANDARD
BEGIN:DAYLIGHT
TZNAME:EDT
DTSTART:20280312T020000
TZOFFSETFROM:-0500
TZOFFSETTO:-0400
RDATE:20290311T020000
END:DAYLIGHT
END:VTIMEZONE
BEGIN:VEVENT
UID:0824de71-ecf2-4741-b349-0d48a66ff55a
DTSTAMP:20260425T231318Z
DESCRIPTION:24 June 1918: The 'Potomac Code' - the first of the AEF 'River'
  series of field codes was issued.\n\nSee the link below for 'American Arm
 y Field Codes in the American Expeditionary Forces during the First World 
 War.' - an NSA declassified Friedman document.
DTSTART;TZID=America/New_York:20280624T000000
DTEND;TZID=America/New_York:20280624T235900
LOCATION:
SUMMARY:1918: 'Potomac Code' was issued.
END:VEVENT
END:VCALENDAR
