BEGIN:VCALENDAR
VERSION:2.0
PRODID:-//archive.cryptologicfoundation.org//NONSGML kigkonsult.se iCalcrea
 tor 2.30.10//
CALSCALE:GREGORIAN
METHOD:PUBLISH
UID:ac74ed0f-197d-44ba-acd7-51c1b5f85390
X-WR-CALDESC:29 June 1942: The Allies realized that the US diplomatic code 
 had been broken by the Germans.
X-WR-RELCALID:a25782889db05fec371a118ad784811a
X-WR-TIMEZONE:America/New_York
BEGIN:VTIMEZONE
TZID:America/New_York
BEGIN:STANDARD
TZNAME:EST
DTSTART:20271107T020000
TZOFFSETFROM:-0400
TZOFFSETTO:-0500
RDATE:20281105T020000
RDATE:20291104T020000
END:STANDARD
BEGIN:DAYLIGHT
TZNAME:EDT
DTSTART:20280312T020000
TZOFFSETFROM:-0500
TZOFFSETTO:-0400
RDATE:20290311T020000
END:DAYLIGHT
END:VTIMEZONE
BEGIN:VEVENT
UID:382aca7e-0b1f-4f29-973a-11e152a263b9
DTSTAMP:20260425T231318Z
DESCRIPTION:29 June 1942: The Allies realized that the US diplomatic code h
 ad been broken by the Germans.
DTSTART;TZID=America/New_York:20280629T000000
DTEND;TZID=America/New_York:20280629T235900
LOCATION:
SUMMARY:1942: Allies realized code was broken by Germans.
END:VEVENT
END:VCALENDAR
