BEGIN:VCALENDAR
VERSION:2.0
PRODID:-//archive.cryptologicfoundation.org//NONSGML kigkonsult.se iCalcrea
 tor 2.30.10//
CALSCALE:GREGORIAN
METHOD:PUBLISH
UID:0352ba12-b308-4c0b-9220-1527ffea8bae
X-WR-CALDESC:1 July 1931: At the urging of Elizebeth Friedman\, the US Coas
 t Guard established a seven man cryptanalytic section.\n\nLearn more in th
 e NSA Center for Cryptologic History's document - 'Listening to the Rumrun
 ners: Radio Intelligence during Prohibition' by David P. Mowry\, as well a
 s Elizebeth Friedman's Hall of Honor page. See links below.\n
X-WR-RELCALID:b714333dfc4768301b47f3bc4afb0b57
X-WR-TIMEZONE:America/New_York
BEGIN:VTIMEZONE
TZID:America/New_York
BEGIN:STANDARD
TZNAME:EST
DTSTART:20271107T020000
TZOFFSETFROM:-0400
TZOFFSETTO:-0500
RDATE:20281105T020000
RDATE:20291104T020000
END:STANDARD
BEGIN:DAYLIGHT
TZNAME:EDT
DTSTART:20280312T020000
TZOFFSETFROM:-0500
TZOFFSETTO:-0400
RDATE:20290311T020000
END:DAYLIGHT
END:VTIMEZONE
BEGIN:VEVENT
UID:c72503c5-6488-491f-b8f0-0c94f7e010f0
DTSTAMP:20260426T004321Z
DESCRIPTION:1 July 1931: At the urging of Elizebeth Friedman\, the US Coast
  Guard established a seven man cryptanalytic section.\n\nLearn more in the
  NSA Center for Cryptologic History's document - 'Listening to the Rumrunn
 ers: Radio Intelligence during Prohibition' by David P. Mowry\, as well as
  Elizebeth Friedman's Hall of Honor page. See links below.\n
DTSTART;TZID=America/New_York:20280701T000000
DTEND;TZID=America/New_York:20280701T235900
LOCATION:
SUMMARY:1931: US Coast Guard Established Cryptanalytic Section
END:VEVENT
END:VCALENDAR
