BEGIN:VCALENDAR
VERSION:2.0
PRODID:-//archive.cryptologicfoundation.org//NONSGML kigkonsult.se iCalcrea
 tor 2.30.10//
CALSCALE:GREGORIAN
METHOD:PUBLISH
UID:dcde3908-1550-44dc-a31e-4f22817887f2
X-WR-CALDESC:3 July 1945: The Cryptographic Security Board was established.
X-WR-RELCALID:ac212effb3645180aba935e1bcc66067
X-WR-TIMEZONE:America/New_York
BEGIN:VTIMEZONE
TZID:America/New_York
BEGIN:STANDARD
TZNAME:EST
DTSTART:20271107T020000
TZOFFSETFROM:-0400
TZOFFSETTO:-0500
RDATE:20281105T020000
RDATE:20291104T020000
END:STANDARD
BEGIN:DAYLIGHT
TZNAME:EDT
DTSTART:20280312T020000
TZOFFSETFROM:-0500
TZOFFSETTO:-0400
RDATE:20290311T020000
END:DAYLIGHT
END:VTIMEZONE
BEGIN:VEVENT
UID:688395c7-ccaf-41c5-9897-0aaef9674c4f
DTSTAMP:20260426T003612Z
DESCRIPTION:3 July 1945: The Cryptographic Security Board was established.
DTSTART;TZID=America/New_York:20280703T000000
DTEND;TZID=America/New_York:20280703T235900
LOCATION:
SUMMARY:1945: Cryptographic Security Board established
END:VEVENT
END:VCALENDAR
