BEGIN:VCALENDAR
VERSION:2.0
PRODID:-//archive.cryptologicfoundation.org//NONSGML kigkonsult.se iCalcrea
 tor 2.30.10//
CALSCALE:GREGORIAN
METHOD:PUBLISH
UID:1c934329-6d6d-4db7-9e48-68e605d2cb5d
X-WR-CALDESC:On 5 July 1917: General Order\, No. 8\, War Department formall
 y established AEF headquarters in France\, including a cryptographic and c
 ryptanalytic branch. General Order\, No. 8 detailed the distribution of st
 aff duties for the AEF. \n\nPhoto Info:  Title: 1917--Distinctive Insignia
 --1919: American Expeditionary Forces\nCreator/Contributor: Engineer Repro
 duction Plant\, U.S. Army\, Washington\, Barrack\, D.C.\, publisher\nDate:
 1919\nContributing Institution: UC Berkeley\, Bancroft Library
X-WR-RELCALID:53562db5320f82fc042d14ffe7db4044
X-WR-TIMEZONE:America/New_York
BEGIN:VTIMEZONE
TZID:America/New_York
BEGIN:STANDARD
TZNAME:EST
DTSTART:20271107T020000
TZOFFSETFROM:-0400
TZOFFSETTO:-0500
RDATE:20281105T020000
RDATE:20291104T020000
END:STANDARD
BEGIN:DAYLIGHT
TZNAME:EDT
DTSTART:20280312T020000
TZOFFSETFROM:-0500
TZOFFSETTO:-0400
RDATE:20290311T020000
END:DAYLIGHT
END:VTIMEZONE
BEGIN:VEVENT
UID:cca7d582-85bb-47e6-9a1d-a6636676c995
DTSTAMP:20260426T010634Z
DESCRIPTION:On 5 July 1917: General Order\, No. 8\, War Department formally
  established AEF headquarters in France\, including a cryptographic and cr
 yptanalytic branch. General Order\, No. 8 detailed the distribution of sta
 ff duties for the AEF. \n\nPhoto Info:  Title: 1917--Distinctive Insignia-
 -1919: American Expeditionary Forces\nCreator/Contributor: Engineer Reprod
 uction Plant\, U.S. Army\, Washington\, Barrack\, D.C.\, publisher\nDate:1
 919\nContributing Institution: UC Berkeley\, Bancroft Library
DTSTART;TZID=America/New_York:20280705T000000
DTEND;TZID=America/New_York:20280705T235900
LOCATION:
SUMMARY:1917: General Order\, No. 8 - established HQ\, AEF in France
END:VEVENT
END:VCALENDAR
