BEGIN:VCALENDAR
VERSION:2.0
PRODID:-//archive.cryptologicfoundation.org//NONSGML kigkonsult.se iCalcrea
 tor 2.30.10//
CALSCALE:GREGORIAN
METHOD:PUBLISH
UID:f9dd6e34-f62c-4d32-b5b9-577c2931a157
X-WR-CALDESC:In a memorandum to the Director of Budget dated 8 July 1942\, 
 President Roosevelt limited cryptanalysis activities to the Army\, Navy\, 
 & FBI\, and ordered that the cryptanalytic units of the FCC\, OSS\, and Di
 rector of Censorship be terminated.\n\n<b>Learn more about this order in t
 he NSA CCH publication by Robert L. Benson titled\, 'The Army-Navy-Comint 
 Agreements of 1942\,' via the link below.</b>
X-WR-RELCALID:4523cd52dbd40d10c8d45a9242c7a371
X-WR-TIMEZONE:America/New_York
BEGIN:VTIMEZONE
TZID:America/New_York
BEGIN:STANDARD
TZNAME:EST
DTSTART:20271107T020000
TZOFFSETFROM:-0400
TZOFFSETTO:-0500
RDATE:20281105T020000
RDATE:20291104T020000
END:STANDARD
BEGIN:DAYLIGHT
TZNAME:EDT
DTSTART:20280312T020000
TZOFFSETFROM:-0500
TZOFFSETTO:-0400
RDATE:20290311T020000
END:DAYLIGHT
END:VTIMEZONE
BEGIN:VEVENT
UID:21addc66-8d7d-4d2e-926d-551b6de6314a
DTSTAMP:20260426T010945Z
DESCRIPTION:In a memorandum to the Director of Budget dated 8 July 1942\, P
 resident Roosevelt limited cryptanalysis activities to the Army\, Navy\, &
  FBI\, and ordered that the cryptanalytic units of the FCC\, OSS\, and Dir
 ector of Censorship be terminated.\n\n<b>Learn more about this order in th
 e NSA CCH publication by Robert L. Benson titled\, 'The Army-Navy-Comint A
 greements of 1942\,' via the link below.</b>
DTSTART;TZID=America/New_York:20280708T060000
DTEND;TZID=America/New_York:20280708T060001
LOCATION:
SUMMARY:1942: President Roosevelt Limited COMINT Activities to the Army\, N
 avy\, & FBI.
END:VEVENT
END:VCALENDAR
